BEGIN:VCALENDAR
VERSION:2.0
PRODID:-//Centro di Formazione Pontino
CALSCALE:GREGORIAN
METHOD:PUBLISH
X-WR-CALNAME:Centro di Formazione Pontino
X-ORIGINAL-URL:https://centroformazionepontino.it/prodotto/%f0%9f%9a%91-corso-per-autista-soccorritore-120-ore-4/
X-WR-CALDESC:🚑 Corso per Autista Soccorritore – 120 Ore
BEGIN:VTIMEZONE
TZID:Europe/Helsinki
END:VTIMEZONE
BEGIN:VEVENT
DTSTART;TZID=Europe/Helsinki:20260420T170000
DTEND;TZID=Europe/Helsinki:
DTSTAMP:20260423T113836
UID:11155-info@centroformazionepontino.it
SUMMARY:🚑 Corso per Autista Soccorritore – 120 Ore
DESCRIPTION:📌Il Centro di Formazione Pontino, da anni punto di riferimento per la formazione in ambito sanitario e socio-sanitario a Latina e provincia, propone un corso specifico per formare la figura dell’Autista Soccorritore di ambulanza. Parte teorica on-line parte pratica in sede Compreso nel prezzo i seguenti manuali: Manuale del Soccorritore Manuale BLS-D - PBLSD Nozioni di Primo Soccorso Manuale Prehospital Trauma Care Base + Gestione delle emorragie massive del sangue
URL:https://centroformazionepontino.it/prodotto/%f0%9f%9a%91-corso-per-autista-soccorritore-120-ore-4/
LOCATION:Via delle Strelitzie snc, 04013 Latina Scalo
END:VEVENT
END:VCALENDAR
